View In:
ArcGIS JavaScript
ArcGIS Online Map Viewer
ArcGIS Earth
ArcMap
View Footprint In:
ArcGIS Online Map Viewer
Service Description: Pp_anual
Name: Pp_anual
Description:
Single Fused Map Cache: false
Extent:
XMin: -646239.2727000006
YMin: 71740.50050000101
XMax: 848160.7272999994
YMax: 1350940.500500001
Spatial Reference: PROJCS["Lambert_Conformal_Conic_Regven",GEOGCS["GCS_REGVEN",DATUM["D_REGVEN",SPHEROID["GRS_1980",6378137.0,298.257222101]],PRIMEM["Greenwich",0.0],UNIT["Degree",0.0174532925199433]],PROJECTION["Lambert_Conformal_Conic"],PARAMETER["False_Easting",0.0],PARAMETER["False_Northing",0.0],PARAMETER["Central_Meridian",-67.5],PARAMETER["Standard_Parallel_1",4.0],PARAMETER["Standard_Parallel_2",9.0],PARAMETER["Latitude_Of_Origin",0.0],UNIT["Meter",1.0]]
Initial Extent:
XMin: -646239.2727000006
YMin: 71740.50050000101
XMax: 848160.7272999994
YMax: 1350940.500500001
Spatial Reference: PROJCS["Lambert_Conformal_Conic_Regven",GEOGCS["GCS_REGVEN",DATUM["D_REGVEN",SPHEROID["GRS_1980",6378137.0,298.257222101]],PRIMEM["Greenwich",0.0],UNIT["Degree",0.0174532925199433]],PROJECTION["Lambert_Conformal_Conic"],PARAMETER["False_Easting",0.0],PARAMETER["False_Northing",0.0],PARAMETER["Central_Meridian",-67.5],PARAMETER["Standard_Parallel_1",4.0],PARAMETER["Standard_Parallel_2",9.0],PARAMETER["Latitude_Of_Origin",0.0],UNIT["Meter",1.0]]
Full Extent:
XMin: -646239.2727000006
YMin: 71740.50050000101
XMax: 848160.7272999994
YMax: 1350940.500500001
Spatial Reference: PROJCS["Lambert_Conformal_Conic_Regven",GEOGCS["GCS_REGVEN",DATUM["D_REGVEN",SPHEROID["GRS_1980",6378137.0,298.257222101]],PRIMEM["Greenwich",0.0],UNIT["Degree",0.0174532925199433]],PROJECTION["Lambert_Conformal_Conic"],PARAMETER["False_Easting",0.0],PARAMETER["False_Northing",0.0],PARAMETER["Central_Meridian",-67.5],PARAMETER["Standard_Parallel_1",4.0],PARAMETER["Standard_Parallel_2",9.0],PARAMETER["Latitude_Of_Origin",0.0],UNIT["Meter",1.0]]
Pixel Size X: 200.0
Pixel Size Y: 200.0
Band Count: 1
Pixel Type: F32
RasterFunction Infos: {"rasterFunctionInfos": [{
"name": "None",
"description": "",
"help": ""
}]}
Mensuration Capabilities: Basic
Has Histograms: true
Has Colormap: false
Has Multi Dimensions : false
Rendering Rule:
Min Scale: 0
Max Scale: 0
Copyright Text:
Service Data Type: esriImageServiceDataTypeGeneric
Min Values: -3427.091796875
Max Values: 9803.78515625
Mean Values: 1993.717062458441
Standard Deviation Values: 928.2165629241354
Object ID Field:
Fields:
None
Default Mosaic Method: Center
Allowed Mosaic Methods:
SortField:
SortValue: null
Mosaic Operator: First
Default Compression Quality: 75
Default Resampling Method: Bilinear
Max Record Count: null
Max Image Height: 4100
Max Image Width: 15000
Max Download Image Count: null
Max Mosaic Image Count: null
Allow Raster Function: true
Allow Copy: true
Allow Analysis: true
Allow Compute TiePoints: false
Supports Statistics: false
Supports Advanced Queries: false
Use StandardizedQueries: true
Raster Type Infos:
Name: Raster Dataset
Description: Supports all ArcGIS Raster Datasets
Help:
Has Raster Attribute Table: false
Edit Fields Info: null
Ownership Based AccessControl For Rasters: null
Child Resources:
Info
Histograms
Statistics
Key Properties
Legend
Raster Function Infos
Supported Operations:
Export Image
Identify
Measure
Compute Histograms
Compute Statistics Histograms
Get Samples
Compute Class Statistics
Query Boundary
Compute Pixel Location
Validate
Project