{
 "currentVersion": 10.9,
 "serviceDescription": "Pp_anual",
 "name": "Pp_anual",
 "description": "",
 "extent": {
  "xmin": -646239.2727000006,
  "ymin": 71740.50050000101,
  "xmax": 848160.7272999994,
  "ymax": 1350940.500500001,
  "spatialReference": {
   "wkt": "PROJCS[\"Lambert_Conformal_Conic_Regven\",GEOGCS[\"GCS_REGVEN\",DATUM[\"D_REGVEN\",SPHEROID[\"GRS_1980\",6378137.0,298.257222101]],PRIMEM[\"Greenwich\",0.0],UNIT[\"Degree\",0.0174532925199433]],PROJECTION[\"Lambert_Conformal_Conic\"],PARAMETER[\"False_Easting\",0.0],PARAMETER[\"False_Northing\",0.0],PARAMETER[\"Central_Meridian\",-67.5],PARAMETER[\"Standard_Parallel_1\",4.0],PARAMETER[\"Standard_Parallel_2\",9.0],PARAMETER[\"Latitude_Of_Origin\",0.0],UNIT[\"Meter\",1.0]]"
  }
 },
 "initialExtent": {
  "xmin": -646239.2727000006,
  "ymin": 71740.50050000101,
  "xmax": 848160.7272999994,
  "ymax": 1350940.500500001,
  "spatialReference": {
   "wkt": "PROJCS[\"Lambert_Conformal_Conic_Regven\",GEOGCS[\"GCS_REGVEN\",DATUM[\"D_REGVEN\",SPHEROID[\"GRS_1980\",6378137.0,298.257222101]],PRIMEM[\"Greenwich\",0.0],UNIT[\"Degree\",0.0174532925199433]],PROJECTION[\"Lambert_Conformal_Conic\"],PARAMETER[\"False_Easting\",0.0],PARAMETER[\"False_Northing\",0.0],PARAMETER[\"Central_Meridian\",-67.5],PARAMETER[\"Standard_Parallel_1\",4.0],PARAMETER[\"Standard_Parallel_2\",9.0],PARAMETER[\"Latitude_Of_Origin\",0.0],UNIT[\"Meter\",1.0]]"
  }
 },
 "fullExtent": {
  "xmin": -646239.2727000006,
  "ymin": 71740.50050000101,
  "xmax": 848160.7272999994,
  "ymax": 1350940.500500001,
  "spatialReference": {
   "wkt": "PROJCS[\"Lambert_Conformal_Conic_Regven\",GEOGCS[\"GCS_REGVEN\",DATUM[\"D_REGVEN\",SPHEROID[\"GRS_1980\",6378137.0,298.257222101]],PRIMEM[\"Greenwich\",0.0],UNIT[\"Degree\",0.0174532925199433]],PROJECTION[\"Lambert_Conformal_Conic\"],PARAMETER[\"False_Easting\",0.0],PARAMETER[\"False_Northing\",0.0],PARAMETER[\"Central_Meridian\",-67.5],PARAMETER[\"Standard_Parallel_1\",4.0],PARAMETER[\"Standard_Parallel_2\",9.0],PARAMETER[\"Latitude_Of_Origin\",0.0],UNIT[\"Meter\",1.0]]"
  }
 },
 "hasMultidimensions": false,
 "pixelSizeX": 200,
 "pixelSizeY": 200,
 "datasetFormat": "FGDBR",
 "uncompressedSize": 191163648,
 "blockWidth": 128,
 "blockHeight": 128,
 "compressionType": "LZ77",
 "bandNames": [
  "Band_1"
 ],
 "allowCopy": true,
 "allowAnalysis": true,
 "bandCount": 1,
 "pixelType": "F32",
 "minPixelSize": 0,
 "maxPixelSize": 0,
 "copyrightText": "",
 "serviceDataType": "esriImageServiceDataTypeGeneric",
 "serviceSourceType": "esriImageServiceSourceTypeDataset",
 "minValues": [
  -3427.091796875
 ],
 "maxValues": [
  9803.78515625
 ],
 "meanValues": [
  1993.717062458441
 ],
 "stdvValues": [
  928.2165629241354
 ],
 "objectIdField": "",
 "fields": [],
 "capabilities": "Image,Metadata,Mensuration",
 "defaultMosaicMethod": "Center",
 "allowedMosaicMethods": "",
 "sortField": "",
 "sortValue": null,
 "sortAscending": true,
 "mosaicOperator": "First",
 "defaultCompressionQuality": 75,
 "defaultResamplingMethod": "Bilinear",
 "maxImageHeight": 4100,
 "maxImageWidth": 15000,
 "allowRasterFunction": true,
 "rasterFunctionInfos": [
  {
   "name": "None",
   "description": "",
   "help": ""
  }
 ],
 "rasterTypeInfos": [
  {
   "name": "Raster Dataset",
   "description": "Supports all ArcGIS Raster Datasets",
   "help": ""
  }
 ],
 "mensurationCapabilities": "Basic",
 "hasHistograms": true,
 "hasColormap": false,
 "hasRasterAttributeTable": false,
 "minScale": 0,
 "maxScale": 0,
 "exportTilesAllowed": false,
 "supportsStatistics": false,
 "supportsAdvancedQueries": false,
 "editFieldsInfo": null,
 "ownershipBasedAccessControlForRasters": null,
 "allowComputeTiePoints": false,
 "useStandardizedQueries": true,
 "advancedQueryCapabilities": {
  "useStandardizedQueries": true,
  "supportsStatistics": false,
  "supportsOrderBy": false,
  "supportsDistinct": false,
  "supportsPagination": false
 },
 "spatialReference": {
  "wkt": "PROJCS[\"Lambert_Conformal_Conic_Regven\",GEOGCS[\"GCS_REGVEN\",DATUM[\"D_REGVEN\",SPHEROID[\"GRS_1980\",6378137.0,298.257222101]],PRIMEM[\"Greenwich\",0.0],UNIT[\"Degree\",0.0174532925199433]],PROJECTION[\"Lambert_Conformal_Conic\"],PARAMETER[\"False_Easting\",0.0],PARAMETER[\"False_Northing\",0.0],PARAMETER[\"Central_Meridian\",-67.5],PARAMETER[\"Standard_Parallel_1\",4.0],PARAMETER[\"Standard_Parallel_2\",9.0],PARAMETER[\"Latitude_Of_Origin\",0.0],UNIT[\"Meter\",1.0]]"
 }
}
