View In:
ArcGIS JavaScript
ArcGIS Online Map Viewer
ArcGIS Earth
ArcMap
View Footprint In:
ArcGIS Online Map Viewer
Service Description: truecolor_norm_1988_Clip
Name: truecolor_norm_1988_Clip
Description:
Single Fused Map Cache: false
Extent:
XMin: 225285
YMin: 854385
XMax: 458415
YMax: 1062315
Spatial Reference: 32619
(32619)
Initial Extent:
XMin: 225285
YMin: 854385
XMax: 458415
YMax: 1062315
Spatial Reference: 32619
(32619)
Full Extent:
XMin: 225285
YMin: 854385
XMax: 458415
YMax: 1062315
Spatial Reference: 32619
(32619)
Pixel Size X: 30.0
Pixel Size Y: 30.0
Band Count: 3
Pixel Type: F32
RasterFunction Infos: {"rasterFunctionInfos": [{
"name": "None",
"description": "",
"help": ""
}]}
Mensuration Capabilities: Basic
Has Histograms: true
Has Colormap: false
Has Multi Dimensions : false
Rendering Rule:
Min Scale: 0
Max Scale: 0
Copyright Text:
Service Data Type: esriImageServiceDataTypeGeneric
Min Values: 0.6344000101089478, 0.40560001134872437, 0.3093000054359436
Max Values: 6.553500175476074, 6.553500175476074, 6.553500175476074
Mean Values: 1.072000599051074, 1.0612366273281115, 1.0787652186585819
Standard Deviation Values: 0.5975864956202113, 0.5032481635152491, 0.9949534273405198
Object ID Field:
Fields:
None
Default Mosaic Method: Center
Allowed Mosaic Methods:
SortField:
SortValue: null
Mosaic Operator: First
Default Compression Quality: 75
Default Resampling Method: Bilinear
Max Record Count: null
Max Image Height: 4100
Max Image Width: 15000
Max Download Image Count: null
Max Mosaic Image Count: null
Allow Raster Function: true
Allow Copy: true
Allow Analysis: true
Allow Compute TiePoints: false
Supports Statistics: false
Supports Advanced Queries: false
Use StandardizedQueries: true
Raster Type Infos:
Name: Raster Dataset
Description: Supports all ArcGIS Raster Datasets
Help:
Has Raster Attribute Table: false
Edit Fields Info: null
Ownership Based AccessControl For Rasters: null
Child Resources:
Info
Histograms
Statistics
Key Properties
Legend
Raster Function Infos
Supported Operations:
Export Image
Identify
Measure
Compute Histograms
Compute Statistics Histograms
Get Samples
Compute Class Statistics
Query Boundary
Compute Pixel Location
Validate
Project