View In:
ArcGIS JavaScript
ArcGIS Online Map Viewer
ArcGIS Earth
ArcMap
View Footprint In:
ArcGIS Online Map Viewer
Service Description: tmaxldm_01
Name: tmaxldm_01
Description:
Single Fused Map Cache: false
Extent:
XMin: -73.416666666667
YMin: 7.666666666633
XMax: -70.16666666664099
YMax: 11.875
Spatial Reference: 4326
(4326)
Initial Extent:
XMin: -73.416666666667
YMin: 7.666666666633
XMax: -70.16666666664099
YMax: 11.875
Spatial Reference: 4326
(4326)
Full Extent:
XMin: -73.416666666667
YMin: 7.666666666633
XMax: -70.16666666664099
YMax: 11.875
Spatial Reference: 4326
(4326)
Pixel Size X: 0.04166666666700008
Pixel Size Y: 0.041666666667
Band Count: 1
Pixel Type: F32
RasterFunction Infos: {"rasterFunctionInfos": [{
"name": "None",
"description": "",
"help": ""
}]}
Mensuration Capabilities: Basic
Has Histograms: false
Has Colormap: false
Has Multi Dimensions : false
Rendering Rule:
Min Scale: 0
Max Scale: 0
Copyright Text:
Service Data Type: esriImageServiceDataTypeGeneric
Min Values: 7
Max Values: 33
Mean Values: 28.502891459074732
Standard Deviation Values: 5.220008617721228
Object ID Field:
Fields:
None
Default Mosaic Method: Center
Allowed Mosaic Methods:
SortField:
SortValue: null
Mosaic Operator: First
Default Compression Quality: 75
Default Resampling Method: Bilinear
Max Record Count: null
Max Image Height: 4100
Max Image Width: 15000
Max Download Image Count: null
Max Mosaic Image Count: null
Allow Raster Function: true
Allow Copy: true
Allow Analysis: true
Allow Compute TiePoints: false
Supports Statistics: false
Supports Advanced Queries: false
Use StandardizedQueries: true
Raster Type Infos:
Name: Raster Dataset
Description: Supports all ArcGIS Raster Datasets
Help:
Has Raster Attribute Table: false
Edit Fields Info: null
Ownership Based AccessControl For Rasters: null
Child Resources:
Info
Statistics
Key Properties
Legend
Raster Function Infos
Supported Operations:
Export Image
Identify
Measure
Compute Histograms
Compute Statistics Histograms
Get Samples
Compute Class Statistics
Query Boundary
Compute Pixel Location
Validate
Project