View In:
ArcGIS JavaScript
ArcGIS Online Map Viewer
ArcGIS Earth
ArcMap
View Footprint In:
ArcGIS Online Map Viewer
Service Description: ndci_20m1
Name: ndci_20m1
Description:
Single Fused Map Cache: false
Extent:
XMin: -72.30136296435408
YMin: 8.932079698625643
XMax: -70.73004837529054
YMax: 11.759865267557068
Spatial Reference: 4326
(4326)
Initial Extent:
XMin: -72.30136296435408
YMin: 8.932079698625643
XMax: -70.73004837529054
YMax: 11.759865267557068
Spatial Reference: 4326
(4326)
Full Extent:
XMin: -72.30136296435408
YMin: 8.932079698625643
XMax: -70.73004837529054
YMax: 11.759865267557068
Spatial Reference: 4326
(4326)
Pixel Size X: 1.814660571732934E-4
Pixel Size Y: 1.81466057173293E-4
Band Count: 1
Pixel Type: F32
RasterFunction Infos: {"rasterFunctionInfos": [{
"name": "None",
"description": "",
"help": ""
}]}
Mensuration Capabilities: Basic
Has Histograms: true
Has Colormap: false
Has Multi Dimensions : false
Rendering Rule:
Min Scale: 0
Max Scale: 0
Copyright Text:
Service Data Type: esriImageServiceDataTypeGeneric
Min Values: -0.44952717423439026
Max Values: 0.5863355994224548
Mean Values: 8.319176145298511E-4
Standard Deviation Values: 0.026290598892114003
Object ID Field:
Fields:
None
Default Mosaic Method: Center
Allowed Mosaic Methods:
SortField:
SortValue: null
Mosaic Operator: First
Default Compression Quality: 75
Default Resampling Method: Bilinear
Max Record Count: null
Max Image Height: 4100
Max Image Width: 15000
Max Download Image Count: null
Max Mosaic Image Count: null
Allow Raster Function: true
Allow Copy: true
Allow Analysis: true
Allow Compute TiePoints: false
Supports Statistics: false
Supports Advanced Queries: false
Use StandardizedQueries: true
Raster Type Infos:
Name: Raster Dataset
Description: Supports all ArcGIS Raster Datasets
Help:
Has Raster Attribute Table: false
Edit Fields Info: null
Ownership Based AccessControl For Rasters: null
Child Resources:
Info
Histograms
Statistics
Key Properties
Legend
Raster Function Infos
Supported Operations:
Export Image
Identify
Measure
Compute Histograms
Compute Statistics Histograms
Get Samples
Compute Class Statistics
Query Boundary
Compute Pixel Location
Validate
Project