View In:
ArcGIS JavaScript
ArcGIS Online Map Viewer
ArcGIS Earth
ArcMap
View Footprint In:
ArcGIS Online Map Viewer
Service Description: ndci_20cG
Name: ndci_20cG
Description:
Single Fused Map Cache: false
Extent:
XMin: -72.133325395653
YMin: 9.035152421747
XMax: -71.026745380067
YMax: 11.025109202809
Spatial Reference: 4326
(4326)
Initial Extent:
XMin: -72.133325395653
YMin: 9.035152421747
XMax: -71.026745380067
YMax: 11.025109202809
Spatial Reference: 4326
(4326)
Full Extent:
XMin: -72.133325395653
YMin: 9.035152421747
XMax: -71.026745380067
YMax: 11.025109202809
Spatial Reference: 4326
(4326)
Pixel Size X: 1.8146605700000075E-4
Pixel Size Y: 1.8146605700000002E-4
Band Count: 1
Pixel Type: F32
RasterFunction Infos: {"rasterFunctionInfos": [{
"name": "None",
"description": "",
"help": ""
}]}
Mensuration Capabilities: Basic
Has Histograms: true
Has Colormap: false
Has Multi Dimensions : false
Rendering Rule:
Min Scale: 0
Max Scale: 0
Copyright Text:
Service Data Type: esriImageServiceDataTypeGeneric
Min Values: -0.3999730944633484
Max Values: 0.38387027382850647
Mean Values: 0.007269271774696622
Standard Deviation Values: 0.01706910335915561
Object ID Field:
Fields:
None
Default Mosaic Method: Center
Allowed Mosaic Methods:
SortField:
SortValue: null
Mosaic Operator: First
Default Compression Quality: 75
Default Resampling Method: Bilinear
Max Record Count: null
Max Image Height: 4100
Max Image Width: 15000
Max Download Image Count: null
Max Mosaic Image Count: null
Allow Raster Function: true
Allow Copy: true
Allow Analysis: true
Allow Compute TiePoints: false
Supports Statistics: false
Supports Advanced Queries: false
Use StandardizedQueries: true
Raster Type Infos:
Name: Raster Dataset
Description: Supports all ArcGIS Raster Datasets
Help:
Has Raster Attribute Table: false
Edit Fields Info: null
Ownership Based AccessControl For Rasters: null
Child Resources:
Info
Histograms
Statistics
Key Properties
Legend
Raster Function Infos
Supported Operations:
Export Image
Identify
Measure
Compute Histograms
Compute Statistics Histograms
Get Samples
Compute Class Statistics
Query Boundary
Compute Pixel Location
Validate
Project