View In:
ArcGIS JavaScript
ArcGIS Online Map Viewer
ArcGIS Earth
ArcMap
View Footprint In:
ArcGIS Online Map Viewer
Service Description: n_150219
Name: n_150219
Description:
Single Fused Map Cache: false
Extent:
XMin: 156906.85646020368
YMin: 999228.4467700864
XMax: 277633.97042243
YMax: 1199959.127117926
Spatial Reference: 32619
(32619)
Initial Extent:
XMin: 156906.85646020368
YMin: 999228.4467700864
XMax: 277633.97042243
YMax: 1199959.127117926
Spatial Reference: 32619
(32619)
Full Extent:
XMin: 156906.85646020368
YMin: 999228.4467700864
XMax: 277633.97042243
YMax: 1199959.127117926
Spatial Reference: 32619
(32619)
Pixel Size X: 21.382769033338
Pixel Size Y: 20.409830233639003
Band Count: 1
Pixel Type: F32
RasterFunction Infos: {"rasterFunctionInfos": [{
"name": "None",
"description": "",
"help": ""
}]}
Mensuration Capabilities: Basic
Has Histograms: true
Has Colormap: false
Has Multi Dimensions : false
Rendering Rule:
Min Scale: 0
Max Scale: 0
Copyright Text:
Service Data Type: esriImageServiceDataTypeGeneric
Min Values: 176
Max Values: 15456
Mean Values: 2625.933480149252
Standard Deviation Values: 1942.2843446272827
Object ID Field:
Fields:
None
Default Mosaic Method: Center
Allowed Mosaic Methods:
SortField:
SortValue: null
Mosaic Operator: First
Default Compression Quality: 75
Default Resampling Method: Bilinear
Max Record Count: null
Max Image Height: 4100
Max Image Width: 15000
Max Download Image Count: null
Max Mosaic Image Count: null
Allow Raster Function: true
Allow Copy: true
Allow Analysis: true
Allow Compute TiePoints: false
Supports Statistics: false
Supports Advanced Queries: false
Use StandardizedQueries: true
Raster Type Infos:
Name: Raster Dataset
Description: Supports all ArcGIS Raster Datasets
Help:
Has Raster Attribute Table: false
Edit Fields Info: null
Ownership Based AccessControl For Rasters: null
Child Resources:
Info
Histograms
Statistics
Key Properties
Legend
Raster Function Infos
Supported Operations:
Export Image
Identify
Measure
Compute Histograms
Compute Statistics Histograms
Get Samples
Compute Class Statistics
Query Boundary
Compute Pixel Location
Validate
Project