View In:
ArcGIS JavaScript
ArcGIS Online Map Viewer
ArcGIS Earth
ArcMap
View Footprint In:
ArcGIS Online Map Viewer
Service Description: n_120318
Name: n_120318
Description:
Single Fused Map Cache: false
Extent:
XMin: 184918.2838938765
YMin: 1004392.1338191987
XMax: 274512.08614356274
YMax: 1099461.1230474892
Spatial Reference: 32619
(32619)
Initial Extent:
XMin: 184918.2838938765
YMin: 1004392.1338191987
XMax: 274512.08614356274
YMax: 1099461.1230474892
Spatial Reference: 32619
(32619)
Full Extent:
XMin: 184918.2838938765
YMin: 1004392.1338191987
XMax: 274512.08614356274
YMax: 1099461.1230474892
Spatial Reference: 32619
(32619)
Pixel Size X: 21.382769033338004
Pixel Size Y: 20.40983023363901
Band Count: 1
Pixel Type: F32
RasterFunction Infos: {"rasterFunctionInfos": [{
"name": "None",
"description": "",
"help": ""
}]}
Mensuration Capabilities: Basic
Has Histograms: true
Has Colormap: false
Has Multi Dimensions : false
Rendering Rule:
Min Scale: 0
Max Scale: 0
Copyright Text:
Service Data Type: esriImageServiceDataTypeGeneric
Min Values: 1229
Max Values: 10105
Mean Values: 2561.2568796755318
Standard Deviation Values: 1519.384044683981
Object ID Field:
Fields:
None
Default Mosaic Method: Center
Allowed Mosaic Methods:
SortField:
SortValue: null
Mosaic Operator: First
Default Compression Quality: 75
Default Resampling Method: Bilinear
Max Record Count: null
Max Image Height: 4100
Max Image Width: 15000
Max Download Image Count: null
Max Mosaic Image Count: null
Allow Raster Function: true
Allow Copy: true
Allow Analysis: true
Allow Compute TiePoints: false
Supports Statistics: false
Supports Advanced Queries: false
Use StandardizedQueries: true
Raster Type Infos:
Name: Raster Dataset
Description: Supports all ArcGIS Raster Datasets
Help:
Has Raster Attribute Table: false
Edit Fields Info: null
Ownership Based AccessControl For Rasters: null
Child Resources:
Info
Histograms
Statistics
Key Properties
Legend
Raster Function Infos
Supported Operations:
Export Image
Identify
Measure
Compute Histograms
Compute Statistics Histograms
Get Samples
Compute Class Statistics
Query Boundary
Compute Pixel Location
Validate
Project