View In:
ArcGIS JavaScript
ArcGIS Online Map Viewer
ArcGIS Earth
ArcMap
View Footprint In:
ArcGIS Online Map Viewer
Service Description: n_080918
Name: n_080918
Description:
Single Fused Map Cache: false
Extent:
XMin: 156923.2009531919
YMin: 999229.1750986285
XMax: 277632.2800906283
YMax: 1200436.5346535763
Spatial Reference: 32619
(32619)
Initial Extent:
XMin: 156923.2009531919
YMin: 999229.1750986285
XMax: 277632.2800906283
YMax: 1200436.5346535763
Spatial Reference: 32619
(32619)
Full Extent:
XMin: 156923.2009531919
YMin: 999229.1750986285
XMax: 277632.2800906283
YMax: 1200436.5346535763
Spatial Reference: 32619
(32619)
Pixel Size X: 20.898386277256996
Pixel Size Y: 20.577557737261998
Band Count: 1
Pixel Type: F32
RasterFunction Infos: {"rasterFunctionInfos": [{
"name": "None",
"description": "",
"help": ""
}]}
Mensuration Capabilities: Basic
Has Histograms: true
Has Colormap: false
Has Multi Dimensions : false
Rendering Rule:
Min Scale: 0
Max Scale: 0
Copyright Text:
Service Data Type: esriImageServiceDataTypeGeneric
Min Values: 1136
Max Values: 16304
Mean Values: 3446.5594305395803
Standard Deviation Values: 1697.7479867457344
Object ID Field:
Fields:
None
Default Mosaic Method: Center
Allowed Mosaic Methods:
SortField:
SortValue: null
Mosaic Operator: First
Default Compression Quality: 75
Default Resampling Method: Bilinear
Max Record Count: null
Max Image Height: 4100
Max Image Width: 15000
Max Download Image Count: null
Max Mosaic Image Count: null
Allow Raster Function: true
Allow Copy: true
Allow Analysis: true
Allow Compute TiePoints: false
Supports Statistics: false
Supports Advanced Queries: false
Use StandardizedQueries: true
Raster Type Infos:
Name: Raster Dataset
Description: Supports all ArcGIS Raster Datasets
Help:
Has Raster Attribute Table: false
Edit Fields Info: null
Ownership Based AccessControl For Rasters: null
Child Resources:
Info
Histograms
Statistics
Key Properties
Legend
Raster Function Infos
Supported Operations:
Export Image
Identify
Measure
Compute Histograms
Compute Statistics Histograms
Get Samples
Compute Class Statistics
Query Boundary
Compute Pixel Location
Validate
Project