View In:
ArcGIS JavaScript
ArcGIS Online Map Viewer
ArcGIS Earth
ArcMap
View Footprint In:
ArcGIS Online Map Viewer
Service Description: Truecolor_30062025_Clip
Name: Truecolor_30062025_Clip
Description:
Single Fused Map Cache: false
Extent:
XMin: 156920
YMin: 999220
XMax: 277640
YMax: 1220120
Spatial Reference: 32619
(32619)
Initial Extent:
XMin: 156920
YMin: 999220
XMax: 277640
YMax: 1220120
Spatial Reference: 32619
(32619)
Full Extent:
XMin: 156920
YMin: 999220
XMax: 277640
YMax: 1220120
Spatial Reference: 32619
(32619)
Pixel Size X: 20.0
Pixel Size Y: 20.0
Band Count: 3
Pixel Type: U16
RasterFunction Infos: {"rasterFunctionInfos": [{
"name": "None",
"description": "",
"help": ""
}]}
Mensuration Capabilities: Basic
Has Histograms: true
Has Colormap: false
Has Multi Dimensions : false
Rendering Rule:
Min Scale: 0
Max Scale: 0
Copyright Text:
Service Data Type: esriImageServiceDataTypeGeneric
Min Values: 1022, 1053, 961
Max Values: 18074, 18919, 20137
Mean Values: 1787.0894946308026, 1968.8243220526965, 1902.784437218496
Standard Deviation Values: 1479.160844997642, 1514.1396438055062, 1640.2737337650194
Object ID Field:
Fields:
None
Default Mosaic Method: Center
Allowed Mosaic Methods:
SortField:
SortValue: null
Mosaic Operator: First
Default Compression Quality: 75
Default Resampling Method: Bilinear
Max Record Count: null
Max Image Height: 4100
Max Image Width: 15000
Max Download Image Count: null
Max Mosaic Image Count: null
Allow Raster Function: true
Allow Copy: true
Allow Analysis: true
Allow Compute TiePoints: false
Supports Statistics: false
Supports Advanced Queries: false
Use StandardizedQueries: true
Raster Type Infos:
Name: Raster Dataset
Description: Supports all ArcGIS Raster Datasets
Help:
Has Raster Attribute Table: false
Edit Fields Info: null
Ownership Based AccessControl For Rasters: null
Child Resources:
Info
Histograms
Statistics
Key Properties
Legend
Raster Function Infos
Supported Operations:
Export Image
Identify
Measure
Compute Histograms
Compute Statistics Histograms
Get Samples
Compute Class Statistics
Query Boundary
Compute Pixel Location
Validate
Project