View In:
ArcGIS JavaScript
ArcGIS Online Map Viewer
ArcGIS Earth
ArcMap
View Footprint In:
ArcGIS Online Map Viewer
Service Description: Truecolor_30012021_Clip
Name: Truecolor_30012021_Clip
Description:
Single Fused Map Cache: false
Extent:
XMin: 199980
YMin: 890220
XMax: 309780
YMax: 1000020
Spatial Reference: 32619
(32619)
Initial Extent:
XMin: 199980
YMin: 890220
XMax: 309780
YMax: 1000020
Spatial Reference: 32619
(32619)
Full Extent:
XMin: 199980
YMin: 890220
XMax: 309780
YMax: 1000020
Spatial Reference: 32619
(32619)
Pixel Size X: 20.0
Pixel Size Y: 20.0
Band Count: 3
Pixel Type: U16
RasterFunction Infos: {"rasterFunctionInfos": [{
"name": "None",
"description": "",
"help": ""
}]}
Mensuration Capabilities: Basic
Has Histograms: true
Has Colormap: false
Has Multi Dimensions : false
Rendering Rule:
Min Scale: 0
Max Scale: 0
Copyright Text:
Service Data Type: esriImageServiceDataTypeGeneric
Min Values: 0, 0, 0
Max Values: 18260, 19188, 20509
Mean Values: 4322.661541368476, 4477.8605350679, 4576.033835554626
Standard Deviation Values: 3515.3901446198493, 3646.801364718089, 3975.6573202382797
Object ID Field:
Fields:
None
Default Mosaic Method: Center
Allowed Mosaic Methods:
SortField:
SortValue: null
Mosaic Operator: First
Default Compression Quality: 75
Default Resampling Method: Bilinear
Max Record Count: null
Max Image Height: 4100
Max Image Width: 15000
Max Download Image Count: null
Max Mosaic Image Count: null
Allow Raster Function: true
Allow Copy: true
Allow Analysis: true
Allow Compute TiePoints: false
Supports Statistics: false
Supports Advanced Queries: false
Use StandardizedQueries: true
Raster Type Infos:
Name: Raster Dataset
Description: Supports all ArcGIS Raster Datasets
Help:
Has Raster Attribute Table: false
Edit Fields Info: null
Ownership Based AccessControl For Rasters: null
Child Resources:
Info
Histograms
Statistics
Key Properties
Legend
Raster Function Infos
Supported Operations:
Export Image
Identify
Measure
Compute Histograms
Compute Statistics Histograms
Get Samples
Compute Class Statistics
Query Boundary
Compute Pixel Location
Validate
Project