View In:
ArcGIS JavaScript
ArcGIS Online Map Viewer
ArcGIS Earth
ArcMap
View Footprint In:
ArcGIS Online Map Viewer
Service Description: Truecolor_28072025_Clip
Name: Truecolor_28072025_Clip
Description:
Single Fused Map Cache: false
Extent:
XMin: 814480
YMin: 999940
XMax: 936160
YMax: 1220700
Spatial Reference: 32618
(32618)
Initial Extent:
XMin: 814480
YMin: 999940
XMax: 936160
YMax: 1220700
Spatial Reference: 32618
(32618)
Full Extent:
XMin: 814480
YMin: 999940
XMax: 936160
YMax: 1220700
Spatial Reference: 32618
(32618)
Pixel Size X: 20.0
Pixel Size Y: 20.0
Band Count: 3
Pixel Type: U16
RasterFunction Infos: {"rasterFunctionInfos": [{
"name": "None",
"description": "",
"help": ""
}]}
Mensuration Capabilities: Basic
Has Histograms: true
Has Colormap: false
Has Multi Dimensions : false
Rendering Rule:
Min Scale: 0
Max Scale: 0
Copyright Text:
Service Data Type: esriImageServiceDataTypeGeneric
Min Values: 1021, 1001, 928
Max Values: 14866, 14993, 15365
Mean Values: 1464.5041853636078, 1651.2375525507812, 1539.2562667607983
Standard Deviation Values: 558.3769174223469, 585.9772341872037, 653.3763888638593
Object ID Field:
Fields:
None
Default Mosaic Method: Center
Allowed Mosaic Methods:
SortField:
SortValue: null
Mosaic Operator: First
Default Compression Quality: 75
Default Resampling Method: Bilinear
Max Record Count: null
Max Image Height: 4100
Max Image Width: 15000
Max Download Image Count: null
Max Mosaic Image Count: null
Allow Raster Function: true
Allow Copy: true
Allow Analysis: true
Allow Compute TiePoints: false
Supports Statistics: false
Supports Advanced Queries: false
Use StandardizedQueries: true
Raster Type Infos:
Name: Raster Dataset
Description: Supports all ArcGIS Raster Datasets
Help:
Has Raster Attribute Table: false
Edit Fields Info: null
Ownership Based AccessControl For Rasters: null
Child Resources:
Info
Histograms
Statistics
Key Properties
Legend
Raster Function Infos
Supported Operations:
Export Image
Identify
Measure
Compute Histograms
Compute Statistics Histograms
Get Samples
Compute Class Statistics
Query Boundary
Compute Pixel Location
Validate
Project