View In:
ArcGIS JavaScript
ArcGIS Online Map Viewer
ArcGIS Earth
ArcMap
View Footprint In:
ArcGIS Online Map Viewer
Service Description: Truecolor_14042025_Clip
Name: Truecolor_14042025_Clip
Description:
Single Fused Map Cache: false
Extent:
XMin: 815120
YMin: 999940
XMax: 936160
YMax: 1220700
Spatial Reference: 32618
(32618)
Initial Extent:
XMin: 815120
YMin: 999940
XMax: 936160
YMax: 1220700
Spatial Reference: 32618
(32618)
Full Extent:
XMin: 815120
YMin: 999940
XMax: 936160
YMax: 1220700
Spatial Reference: 32618
(32618)
Pixel Size X: 20.0
Pixel Size Y: 20.0
Band Count: 3
Pixel Type: U16
RasterFunction Infos: {"rasterFunctionInfos": [{
"name": "None",
"description": "",
"help": ""
}]}
Mensuration Capabilities: Basic
Has Histograms: true
Has Colormap: false
Has Multi Dimensions : false
Rendering Rule:
Min Scale: 0
Max Scale: 0
Copyright Text:
Service Data Type: esriImageServiceDataTypeGeneric
Min Values: 1168, 1201, 1260
Max Values: 18367, 19334, 20636
Mean Values: 2080.1939627346906, 2279.0390650275194, 2289.408103939309
Standard Deviation Values: 1369.734541165053, 1403.9891929513858, 1536.5344442323344
Object ID Field:
Fields:
None
Default Mosaic Method: Center
Allowed Mosaic Methods:
SortField:
SortValue: null
Mosaic Operator: First
Default Compression Quality: 75
Default Resampling Method: Bilinear
Max Record Count: null
Max Image Height: 4100
Max Image Width: 15000
Max Download Image Count: null
Max Mosaic Image Count: null
Allow Raster Function: true
Allow Copy: true
Allow Analysis: true
Allow Compute TiePoints: false
Supports Statistics: false
Supports Advanced Queries: false
Use StandardizedQueries: true
Raster Type Infos:
Name: Raster Dataset
Description: Supports all ArcGIS Raster Datasets
Help:
Has Raster Attribute Table: false
Edit Fields Info: null
Ownership Based AccessControl For Rasters: null
Child Resources:
Info
Histograms
Statistics
Key Properties
Legend
Raster Function Infos
Supported Operations:
Export Image
Identify
Measure
Compute Histograms
Compute Statistics Histograms
Get Samples
Compute Class Statistics
Query Boundary
Compute Pixel Location
Validate
Project