View In:
ArcGIS JavaScript
ArcGIS Online Map Viewer
ArcGIS Earth
ArcMap
View Footprint In:
ArcGIS Online Map Viewer
Service Description: SVDNB_20241001_20241031_clip
Name: SVDNB_20241001_20241031_clip
Description:
Single Fused Map Cache: false
Extent:
XMin: -73.38009134177453
YMin: 0.6395827384500006
XMax: -58.14272348984086
YMax: 15.68541619215
Spatial Reference: 4326
(4326)
Initial Extent:
XMin: -73.38009134177453
YMin: 0.6395827384500006
XMax: -58.14272348984086
YMax: 15.68541619215
Spatial Reference: 4326
(4326)
Full Extent:
XMin: -73.38009134177453
YMin: 0.6395827384500006
XMax: -58.14272348984086
YMax: 15.68541619215
Spatial Reference: 4326
(4326)
Pixel Size X: 0.00416663053101823
Pixel Size Y: 0.0041666667
Band Count: 1
Pixel Type: F32
RasterFunction Infos: {"rasterFunctionInfos": [{
"name": "None",
"description": "",
"help": ""
}]}
Mensuration Capabilities: Basic
Has Histograms: true
Has Colormap: false
Has Multi Dimensions : false
Rendering Rule:
Min Scale: 0
Max Scale: 0
Copyright Text:
Service Data Type: esriImageServiceDataTypeGeneric
Min Values: -0.5799999833106995
Max Values: 67237.53125
Mean Values: 0.6440647157704771
Standard Deviation Values: 41.118466998447325
Object ID Field:
Fields:
None
Default Mosaic Method: Center
Allowed Mosaic Methods:
SortField:
SortValue: null
Mosaic Operator: First
Default Compression Quality: 75
Default Resampling Method: Bilinear
Max Record Count: null
Max Image Height: 4100
Max Image Width: 15000
Max Download Image Count: null
Max Mosaic Image Count: null
Allow Raster Function: true
Allow Copy: true
Allow Analysis: true
Allow Compute TiePoints: false
Supports Statistics: false
Supports Advanced Queries: false
Use StandardizedQueries: true
Raster Type Infos:
Name: Raster Dataset
Description: Supports all ArcGIS Raster Datasets
Help:
Has Raster Attribute Table: false
Edit Fields Info: null
Ownership Based AccessControl For Rasters: null
Child Resources:
Info
Histograms
Statistics
Key Properties
Legend
Raster Function Infos
Supported Operations:
Export Image
Identify
Measure
Compute Histograms
Compute Statistics Histograms
Get Samples
Compute Class Statistics
Query Boundary
Compute Pixel Location
Validate
Project