View In:
ArcGIS JavaScript
ArcGIS Online Map Viewer
ArcGIS Earth
ArcMap
View Footprint In:
ArcGIS Online Map Viewer
Service Description: NDVI_MNDWI_28112012_Clip_B
Name: NDVI_MNDWI_28112012_Clip_B
Description:
Single Fused Map Cache: false
Extent:
XMin: 156225.47231992293
YMin: 999225
XMax: 277635.47231992293
YMax: 1220145
Spatial Reference: 32619
(32619)
Initial Extent:
XMin: 156225.47231992293
YMin: 999225
XMax: 277635.47231992293
YMax: 1220145
Spatial Reference: 32619
(32619)
Full Extent:
XMin: 156225.47231992293
YMin: 999225
XMax: 277635.47231992293
YMax: 1220145
Spatial Reference: 32619
(32619)
Pixel Size X: 30.0
Pixel Size Y: 30.0
Band Count: 1
Pixel Type: F32
RasterFunction Infos: {"rasterFunctionInfos": [{
"name": "None",
"description": "",
"help": ""
}]}
Mensuration Capabilities: Basic
Has Histograms: true
Has Colormap: false
Has Multi Dimensions : false
Rendering Rule:
Min Scale: 0
Max Scale: 0
Copyright Text:
Service Data Type: esriImageServiceDataTypeGeneric
Min Values: -0.3929687440395355
Max Values: 0.5124531388282776
Mean Values: -0.013740907287080904
Standard Deviation Values: 0.03161657189591344
Object ID Field:
Fields:
None
Default Mosaic Method: Center
Allowed Mosaic Methods:
SortField:
SortValue: null
Mosaic Operator: First
Default Compression Quality: 75
Default Resampling Method: Bilinear
Max Record Count: null
Max Image Height: 4100
Max Image Width: 15000
Max Download Image Count: null
Max Mosaic Image Count: null
Allow Raster Function: true
Allow Copy: true
Allow Analysis: true
Allow Compute TiePoints: false
Supports Statistics: false
Supports Advanced Queries: false
Use StandardizedQueries: true
Raster Type Infos:
Name: Raster Dataset
Description: Supports all ArcGIS Raster Datasets
Help:
Has Raster Attribute Table: false
Edit Fields Info: null
Ownership Based AccessControl For Rasters: null
Child Resources:
Info
Histograms
Statistics
Key Properties
Legend
Raster Function Infos
Supported Operations:
Export Image
Identify
Measure
Compute Histograms
Compute Statistics Histograms
Get Samples
Compute Class Statistics
Query Boundary
Compute Pixel Location
Validate
Project