View In:
ArcGIS JavaScript
ArcGIS Online Map Viewer
ArcGIS Earth
ArcMap
View Footprint In:
ArcGIS Online Map Viewer
Service Description: NDCI_MASK_MNDWI_14042025_Clip
Name: NDCI_MASK_MNDWI_14042025_Clip
Description:
Single Fused Map Cache: false
Extent:
XMin: 815120
YMin: 999940
XMax: 936160
YMax: 1220700
Spatial Reference: 32618
(32618)
Initial Extent:
XMin: 815120
YMin: 999940
XMax: 936160
YMax: 1220700
Spatial Reference: 32618
(32618)
Full Extent:
XMin: 815120
YMin: 999940
XMax: 936160
YMax: 1220700
Spatial Reference: 32618
(32618)
Pixel Size X: 20.0
Pixel Size Y: 20.0
Band Count: 1
Pixel Type: F32
RasterFunction Infos: {"rasterFunctionInfos": [{
"name": "None",
"description": "",
"help": ""
}]}
Mensuration Capabilities: Basic
Has Histograms: true
Has Colormap: false
Has Multi Dimensions : false
Rendering Rule:
Min Scale: 0
Max Scale: 0
Copyright Text:
Service Data Type: esriImageServiceDataTypeGeneric
Min Values: -0.5709939002990723
Max Values: 0.3620501756668091
Mean Values: 0.01435883143329746
Standard Deviation Values: 0.018178569719651427
Object ID Field:
Fields:
None
Default Mosaic Method: Center
Allowed Mosaic Methods:
SortField:
SortValue: null
Mosaic Operator: First
Default Compression Quality: 75
Default Resampling Method: Bilinear
Max Record Count: null
Max Image Height: 4100
Max Image Width: 15000
Max Download Image Count: null
Max Mosaic Image Count: null
Allow Raster Function: true
Allow Copy: true
Allow Analysis: true
Allow Compute TiePoints: false
Supports Statistics: false
Supports Advanced Queries: false
Use StandardizedQueries: true
Raster Type Infos:
Name: Raster Dataset
Description: Supports all ArcGIS Raster Datasets
Help:
Has Raster Attribute Table: false
Edit Fields Info: null
Ownership Based AccessControl For Rasters: null
Child Resources:
Info
Histograms
Statistics
Key Properties
Legend
Raster Function Infos
Supported Operations:
Export Image
Identify
Measure
Compute Histograms
Compute Statistics Histograms
Get Samples
Compute Class Statistics
Query Boundary
Compute Pixel Location
Validate
Project