View In:
ArcGIS JavaScript
ArcGIS Online Map Viewer
ArcGIS Earth
ArcMap
View Footprint In:
ArcGIS Online Map Viewer
Service Description: Blend_mosaicraster_2025_Clip
Name: Blend_mosaicraster_2025_Clip
Description:
Single Fused Map Cache: false
Extent:
XMin: -80.10920004893565
YMin: 0.03541606694999899
XMax: -53.70109584897544
YMax: 22.86458291625
Spatial Reference: 4326
(4326)
Initial Extent:
XMin: -80.10920004893565
YMin: 0.03541606694999899
XMax: -53.70109584897544
YMax: 22.86458291625
Spatial Reference: 4326
(4326)
Full Extent:
XMin: -80.10920004893565
YMin: 0.03541606694999899
XMax: -53.70109584897544
YMax: 22.86458291625
Spatial Reference: 4326
(4326)
Pixel Size X: 0.004166630514351563
Pixel Size Y: 0.0041666667
Band Count: 1
Pixel Type: F32
RasterFunction Infos: {"rasterFunctionInfos": [{
"name": "None",
"description": "",
"help": ""
}]}
Mensuration Capabilities: Basic
Has Histograms: true
Has Colormap: false
Has Multi Dimensions : false
Rendering Rule:
Min Scale: 0
Max Scale: 0
Copyright Text:
Service Data Type: esriImageServiceDataTypeGeneric
Min Values: -0.949999988079071
Max Values: 52967.73828125
Mean Values: 0.46287084155850444
Standard Deviation Values: 22.823965203561116
Object ID Field:
Fields:
None
Default Mosaic Method: Center
Allowed Mosaic Methods:
SortField:
SortValue: null
Mosaic Operator: First
Default Compression Quality: 75
Default Resampling Method: Bilinear
Max Record Count: null
Max Image Height: 4100
Max Image Width: 15000
Max Download Image Count: null
Max Mosaic Image Count: null
Allow Raster Function: true
Allow Copy: true
Allow Analysis: true
Allow Compute TiePoints: false
Supports Statistics: false
Supports Advanced Queries: false
Use StandardizedQueries: true
Raster Type Infos:
Name: Raster Dataset
Description: Supports all ArcGIS Raster Datasets
Help:
Has Raster Attribute Table: false
Edit Fields Info: null
Ownership Based AccessControl For Rasters: null
Child Resources:
Info
Histograms
Statistics
Key Properties
Legend
Raster Function Infos
Supported Operations:
Export Image
Identify
Measure
Compute Histograms
Compute Statistics Histograms
Get Samples
Compute Class Statistics
Query Boundary
Compute Pixel Location
Validate
Project