{
 "currentVersion": 10.9,
 "serviceDescription": "n_190819",
 "name": "n_190819",
 "description": "",
 "extent": {
  "xmin": 156906.85646020368,
  "ymin": 999228.4467700865,
  "xmax": 277633.97042243,
  "ymax": 1159241.5158018162,
  "spatialReference": {
   "wkid": 32619,
   "latestWkid": 32619
  }
 },
 "initialExtent": {
  "xmin": 156906.85646020368,
  "ymin": 999228.4467700865,
  "xmax": 277633.97042243,
  "ymax": 1159241.5158018162,
  "spatialReference": {
   "wkid": 32619,
   "latestWkid": 32619
  }
 },
 "fullExtent": {
  "xmin": 156906.85646020368,
  "ymin": 999228.4467700865,
  "xmax": 277633.97042243,
  "ymax": 1159241.5158018162,
  "spatialReference": {
   "wkid": 32619,
   "latestWkid": 32619
  }
 },
 "hasMultidimensions": false,
 "pixelSizeX": 21.382769033338,
 "pixelSizeY": 20.409830233638996,
 "datasetFormat": "GRID",
 "uncompressedSize": 177035976,
 "blockWidth": 256,
 "blockHeight": 16,
 "compressionType": "None",
 "bandNames": [
  "Band_1"
 ],
 "allowCopy": true,
 "allowAnalysis": true,
 "bandCount": 1,
 "noDataValue": -1,
 "noDataValues": [
  -1
 ],
 "pixelType": "F32",
 "minPixelSize": 0,
 "maxPixelSize": 0,
 "copyrightText": "",
 "serviceDataType": "esriImageServiceDataTypeGeneric",
 "serviceSourceType": "esriImageServiceSourceTypeDataset",
 "minValues": [
  1105
 ],
 "maxValues": [
  16174
 ],
 "meanValues": [
  3555.9840377275855
 ],
 "stdvValues": [
  1382.6566052375854
 ],
 "objectIdField": "",
 "fields": [],
 "capabilities": "Image,Metadata,Mensuration",
 "defaultMosaicMethod": "Center",
 "allowedMosaicMethods": "",
 "sortField": "",
 "sortValue": null,
 "sortAscending": true,
 "mosaicOperator": "First",
 "defaultCompressionQuality": 75,
 "defaultResamplingMethod": "Bilinear",
 "maxImageHeight": 4100,
 "maxImageWidth": 15000,
 "allowRasterFunction": true,
 "rasterFunctionInfos": [
  {
   "name": "None",
   "description": "",
   "help": ""
  }
 ],
 "rasterTypeInfos": [
  {
   "name": "Raster Dataset",
   "description": "Supports all ArcGIS Raster Datasets",
   "help": ""
  }
 ],
 "mensurationCapabilities": "Basic",
 "hasHistograms": true,
 "hasColormap": false,
 "hasRasterAttributeTable": false,
 "minScale": 0,
 "maxScale": 0,
 "exportTilesAllowed": false,
 "supportsStatistics": false,
 "supportsAdvancedQueries": false,
 "editFieldsInfo": null,
 "ownershipBasedAccessControlForRasters": null,
 "allowComputeTiePoints": false,
 "useStandardizedQueries": true,
 "advancedQueryCapabilities": {
  "useStandardizedQueries": true,
  "supportsStatistics": false,
  "supportsOrderBy": false,
  "supportsDistinct": false,
  "supportsPagination": false
 },
 "spatialReference": {
  "wkid": 32619,
  "latestWkid": 32619
 }
}
