{
 "currentVersion": 10.9,
 "serviceDescription": "Truecolor_27062025_Clip",
 "name": "Truecolor_27062025_Clip",
 "description": "",
 "extent": {
  "xmin": 621700,
  "ymin": 1116080,
  "xmax": 654900,
  "ymax": 1135800,
  "spatialReference": {
   "wkid": 32619,
   "latestWkid": 32619
  }
 },
 "initialExtent": {
  "xmin": 621700,
  "ymin": 1116080,
  "xmax": 654900,
  "ymax": 1135800,
  "spatialReference": {
   "wkid": 32619,
   "latestWkid": 32619
  }
 },
 "fullExtent": {
  "xmin": 621700,
  "ymin": 1116080,
  "xmax": 654900,
  "ymax": 1135800,
  "spatialReference": {
   "wkid": 32619,
   "latestWkid": 32619
  }
 },
 "hasMultidimensions": false,
 "pixelSizeX": 20,
 "pixelSizeY": 20,
 "datasetFormat": "FGDBR",
 "uncompressedSize": 9820560,
 "blockWidth": 128,
 "blockHeight": 128,
 "compressionType": "LZ77",
 "bandNames": [
  "Band_1",
  "Band_2",
  "Band_3"
 ],
 "allowCopy": true,
 "allowAnalysis": true,
 "bandCount": 3,
 "pixelType": "U16",
 "minPixelSize": 0,
 "maxPixelSize": 0,
 "copyrightText": "",
 "serviceDataType": "esriImageServiceDataTypeGeneric",
 "serviceSourceType": "esriImageServiceSourceTypeDataset",
 "minValues": [
  1148,
  1173,
  1103
 ],
 "maxValues": [
  7993,
  8177,
  8451
 ],
 "meanValues": [
  1575.9462132846995,
  1829.0037176041467,
  1608.1274006527165
 ],
 "stdvValues": [
  364.2863748328637,
  422.82027451140726,
  373.14603971098796
 ],
 "objectIdField": "",
 "fields": [],
 "capabilities": "Image,Metadata,Mensuration",
 "defaultMosaicMethod": "Center",
 "allowedMosaicMethods": "",
 "sortField": "",
 "sortValue": null,
 "sortAscending": true,
 "mosaicOperator": "First",
 "defaultCompressionQuality": 75,
 "defaultResamplingMethod": "Bilinear",
 "maxImageHeight": 4100,
 "maxImageWidth": 15000,
 "allowRasterFunction": true,
 "rasterFunctionInfos": [
  {
   "name": "None",
   "description": "",
   "help": ""
  }
 ],
 "rasterTypeInfos": [
  {
   "name": "Raster Dataset",
   "description": "Supports all ArcGIS Raster Datasets",
   "help": ""
  }
 ],
 "mensurationCapabilities": "Basic",
 "hasHistograms": true,
 "hasColormap": false,
 "hasRasterAttributeTable": false,
 "minScale": 0,
 "maxScale": 0,
 "exportTilesAllowed": false,
 "supportsStatistics": false,
 "supportsAdvancedQueries": false,
 "editFieldsInfo": null,
 "ownershipBasedAccessControlForRasters": null,
 "allowComputeTiePoints": false,
 "useStandardizedQueries": true,
 "advancedQueryCapabilities": {
  "useStandardizedQueries": true,
  "supportsStatistics": false,
  "supportsOrderBy": false,
  "supportsDistinct": false,
  "supportsPagination": false
 },
 "spatialReference": {
  "wkid": 32619,
  "latestWkid": 32619
 }
}
