{
 "currentVersion": 10.9,
 "serviceDescription": "Truecolor_14012025_Clip",
 "name": "Truecolor_14012025_Clip",
 "description": "",
 "extent": {
  "xmin": 199980,
  "ymin": 890220,
  "xmax": 309780,
  "ymax": 1000020,
  "spatialReference": {
   "wkid": 32619,
   "latestWkid": 32619
  }
 },
 "initialExtent": {
  "xmin": 199980,
  "ymin": 890220,
  "xmax": 309780,
  "ymax": 1000020,
  "spatialReference": {
   "wkid": 32619,
   "latestWkid": 32619
  }
 },
 "fullExtent": {
  "xmin": 199980,
  "ymin": 890220,
  "xmax": 309780,
  "ymax": 1000020,
  "spatialReference": {
   "wkid": 32619,
   "latestWkid": 32619
  }
 },
 "hasMultidimensions": false,
 "pixelSizeX": 20,
 "pixelSizeY": 20,
 "datasetFormat": "FGDBR",
 "uncompressedSize": 180840600,
 "blockWidth": 128,
 "blockHeight": 128,
 "compressionType": "LZ77",
 "bandNames": [
  "Band_1",
  "Band_2",
  "Band_3"
 ],
 "allowCopy": true,
 "allowAnalysis": true,
 "bandCount": 3,
 "pixelType": "U16",
 "minPixelSize": 0,
 "maxPixelSize": 0,
 "copyrightText": "",
 "serviceDataType": "esriImageServiceDataTypeGeneric",
 "serviceSourceType": "esriImageServiceSourceTypeDataset",
 "minValues": [
  902,
  868,
  741
 ],
 "maxValues": [
  19083,
  20258,
  21780
 ],
 "meanValues": [
  2921.1548122269005,
  3068.7668845823337,
  3071.3479655011097
 ],
 "stdvValues": [
  2790.356537056864,
  2940.236026148428,
  3259.5791425693965
 ],
 "objectIdField": "",
 "fields": [],
 "capabilities": "Image,Metadata,Mensuration",
 "defaultMosaicMethod": "Center",
 "allowedMosaicMethods": "",
 "sortField": "",
 "sortValue": null,
 "sortAscending": true,
 "mosaicOperator": "First",
 "defaultCompressionQuality": 75,
 "defaultResamplingMethod": "Bilinear",
 "maxImageHeight": 4100,
 "maxImageWidth": 15000,
 "allowRasterFunction": true,
 "rasterFunctionInfos": [
  {
   "name": "None",
   "description": "",
   "help": ""
  }
 ],
 "rasterTypeInfos": [
  {
   "name": "Raster Dataset",
   "description": "Supports all ArcGIS Raster Datasets",
   "help": ""
  }
 ],
 "mensurationCapabilities": "Basic",
 "hasHistograms": true,
 "hasColormap": false,
 "hasRasterAttributeTable": false,
 "minScale": 0,
 "maxScale": 0,
 "exportTilesAllowed": false,
 "supportsStatistics": false,
 "supportsAdvancedQueries": false,
 "editFieldsInfo": null,
 "ownershipBasedAccessControlForRasters": null,
 "allowComputeTiePoints": false,
 "useStandardizedQueries": true,
 "advancedQueryCapabilities": {
  "useStandardizedQueries": true,
  "supportsStatistics": false,
  "supportsOrderBy": false,
  "supportsDistinct": false,
  "supportsPagination": false
 },
 "spatialReference": {
  "wkid": 32619,
  "latestWkid": 32619
 }
}
