{
 "currentVersion": 10.9,
 "serviceDescription": "Truecolor_13012003_Clip",
 "name": "Truecolor_13012003_Clip",
 "description": "",
 "extent": {
  "xmin": 221985,
  "ymin": 854985,
  "xmax": 456615,
  "ymax": 1065615,
  "spatialReference": {
   "wkid": 32619,
   "latestWkid": 32619
  }
 },
 "initialExtent": {
  "xmin": 221985,
  "ymin": 854985,
  "xmax": 456615,
  "ymax": 1065615,
  "spatialReference": {
   "wkid": 32619,
   "latestWkid": 32619
  }
 },
 "fullExtent": {
  "xmin": 221985,
  "ymin": 854985,
  "xmax": 456615,
  "ymax": 1065615,
  "spatialReference": {
   "wkid": 32619,
   "latestWkid": 32619
  }
 },
 "hasMultidimensions": false,
 "pixelSizeX": 30,
 "pixelSizeY": 30,
 "datasetFormat": "FGDBR",
 "uncompressedSize": 329467446,
 "blockWidth": 128,
 "blockHeight": 128,
 "compressionType": "LZ77",
 "bandNames": [
  "Band_1",
  "Band_2",
  "Band_3"
 ],
 "allowCopy": true,
 "allowAnalysis": true,
 "bandCount": 3,
 "pixelType": "U16",
 "minPixelSize": 0,
 "maxPixelSize": 0,
 "copyrightText": "",
 "serviceDataType": "esriImageServiceDataTypeGeneric",
 "serviceSourceType": "esriImageServiceSourceTypeDataset",
 "minValues": [
  6581,
  6597,
  3755
 ],
 "maxValues": [
  65535,
  65535,
  65535
 ],
 "meanValues": [
  20783.63689967023,
  20062.11802502018,
  20708.123632329953
 ],
 "stdvValues": [
  20882.24543340036,
  20145.75983826445,
  21775.85953940642
 ],
 "objectIdField": "",
 "fields": [],
 "capabilities": "Image,Metadata,Mensuration",
 "defaultMosaicMethod": "Center",
 "allowedMosaicMethods": "",
 "sortField": "",
 "sortValue": null,
 "sortAscending": true,
 "mosaicOperator": "First",
 "defaultCompressionQuality": 75,
 "defaultResamplingMethod": "Bilinear",
 "maxImageHeight": 4100,
 "maxImageWidth": 15000,
 "allowRasterFunction": true,
 "rasterFunctionInfos": [
  {
   "name": "None",
   "description": "",
   "help": ""
  }
 ],
 "rasterTypeInfos": [
  {
   "name": "Raster Dataset",
   "description": "Supports all ArcGIS Raster Datasets",
   "help": ""
  }
 ],
 "mensurationCapabilities": "Basic",
 "hasHistograms": true,
 "hasColormap": false,
 "hasRasterAttributeTable": false,
 "minScale": 0,
 "maxScale": 0,
 "exportTilesAllowed": false,
 "supportsStatistics": false,
 "supportsAdvancedQueries": false,
 "editFieldsInfo": null,
 "ownershipBasedAccessControlForRasters": null,
 "allowComputeTiePoints": false,
 "useStandardizedQueries": true,
 "advancedQueryCapabilities": {
  "useStandardizedQueries": true,
  "supportsStatistics": false,
  "supportsOrderBy": false,
  "supportsDistinct": false,
  "supportsPagination": false
 },
 "spatialReference": {
  "wkid": 32619,
  "latestWkid": 32619
 }
}
