{
 "currentVersion": 10.9,
 "serviceDescription": "NDCI_MNDWI_MASK_1906202_Clip_B",
 "name": "NDCI_MNDWI_MASK_1906202_Clip_B",
 "description": "",
 "extent": {
  "xmin": 156920,
  "ymin": 999220,
  "xmax": 277640,
  "ymax": 1220120,
  "spatialReference": {
   "wkid": 32619,
   "latestWkid": 32619
  }
 },
 "initialExtent": {
  "xmin": 156920,
  "ymin": 999220,
  "xmax": 277640,
  "ymax": 1220120,
  "spatialReference": {
   "wkid": 32619,
   "latestWkid": 32619
  }
 },
 "fullExtent": {
  "xmin": 156920,
  "ymin": 999220,
  "xmax": 277640,
  "ymax": 1220120,
  "spatialReference": {
   "wkid": 32619,
   "latestWkid": 32619
  }
 },
 "hasMultidimensions": false,
 "pixelSizeX": 20,
 "pixelSizeY": 20,
 "datasetFormat": "FGDBR",
 "uncompressedSize": 266670480,
 "blockWidth": 128,
 "blockHeight": 128,
 "compressionType": "LZ77",
 "bandNames": [
  "Band_1"
 ],
 "allowCopy": true,
 "allowAnalysis": true,
 "bandCount": 1,
 "pixelType": "F32",
 "minPixelSize": 0,
 "maxPixelSize": 0,
 "copyrightText": "",
 "serviceDataType": "esriImageServiceDataTypeGeneric",
 "serviceSourceType": "esriImageServiceSourceTypeDataset",
 "minValues": [
  -0.4433962404727936
 ],
 "maxValues": [
  0.44050583243370056
 ],
 "meanValues": [
  0.04337335266775646
 ],
 "stdvValues": [
  0.06428130933476847
 ],
 "objectIdField": "",
 "fields": [],
 "capabilities": "Image,Metadata,Mensuration",
 "defaultMosaicMethod": "Center",
 "allowedMosaicMethods": "",
 "sortField": "",
 "sortValue": null,
 "sortAscending": true,
 "mosaicOperator": "First",
 "defaultCompressionQuality": 75,
 "defaultResamplingMethod": "Bilinear",
 "maxImageHeight": 4100,
 "maxImageWidth": 15000,
 "allowRasterFunction": true,
 "rasterFunctionInfos": [
  {
   "name": "None",
   "description": "",
   "help": ""
  }
 ],
 "rasterTypeInfos": [
  {
   "name": "Raster Dataset",
   "description": "Supports all ArcGIS Raster Datasets",
   "help": ""
  }
 ],
 "mensurationCapabilities": "Basic",
 "hasHistograms": true,
 "hasColormap": false,
 "hasRasterAttributeTable": false,
 "minScale": 0,
 "maxScale": 0,
 "exportTilesAllowed": false,
 "supportsStatistics": false,
 "supportsAdvancedQueries": false,
 "editFieldsInfo": null,
 "ownershipBasedAccessControlForRasters": null,
 "allowComputeTiePoints": false,
 "useStandardizedQueries": true,
 "advancedQueryCapabilities": {
  "useStandardizedQueries": true,
  "supportsStatistics": false,
  "supportsOrderBy": false,
  "supportsDistinct": false,
  "supportsPagination": false
 },
 "spatialReference": {
  "wkid": 32619,
  "latestWkid": 32619
 }
}
